BEGIN:VCALENDAR
VERSION:2.0
PRODID:-//Squarespace Inc/Squarespace 6//v6//EN
BEGIN:VEVENT
UID:5db12fdfa970e92580fd4386@squarespace.com
DTSTAMP:20191024T051201Z
DTSTART:20191108T230000Z
DTEND:20191109T000000Z
SUMMARY:Kabbalat Shabbat - Northside 
GEO:-37.80131;144.999492
LOCATION:21 Valiant Street\, Abbotsford\, VIC\, 3067\, Australia
END:VEVENT
END:VCALENDAR
