BEGIN:VCALENDAR
VERSION:2.0
PRODID:-//Squarespace Inc/Squarespace 6//v6//EN
BEGIN:VEVENT
UID:5da4509107d0570c2490a7f2@squarespace.com
DTSTAMP:20191014T104819Z
DTSTART:20191018T220000Z
DTEND:20191018T230000Z
SUMMARY:Kabbalat Shabbat 
GEO:-37.88073;145.023437
LOCATION:281 Hawthorn Road\, Caulfield North\, VIC\, 3161\, Australia
END:VEVENT
END:VCALENDAR
