BEGIN:VCALENDAR
VERSION:2.0
PRODID:-//Squarespace Inc/Squarespace 6//v6//EN
BEGIN:VEVENT
UID:5d418992fd68dd0001de26bd@squarespace.com
DTSTAMP:20190902T084718Z
DTSTART:20190830T220000Z
DTEND:20190830T230000Z
SUMMARY:Kabbalat Shabbat 
GEO:-37.88073;145.023437
LOCATION:281 Hawthorn Road\, Caulfield North\, VIC\, 3161\, Australia
END:VEVENT
END:VCALENDAR
