BEGIN:VCALENDAR
VERSION:2.0
PRODID:-//Squarespace Inc/Squarespace 6//v6//EN
BEGIN:VEVENT
UID:5d2d3a46782de40001d14202@squarespace.com
DTSTAMP:20190731T122738Z
DTSTART:20190816T220000Z
DTEND:20190816T230000Z
SUMMARY:Kabbalat Shabbat 
GEO:-37.88073;145.023437
LOCATION:281 Hawthorn Road\, Caulfield North\, VIC\, 3161\, Australia
END:VEVENT
END:VCALENDAR
