BEGIN:VCALENDAR
VERSION:2.0
PRODID:-//Squarespace Inc/Squarespace 6//v6//EN
BEGIN:VEVENT
UID:5d62791a0cb46e0001661492@squarespace.com
DTSTAMP:20190825T120738Z
DTSTART:20191009T150000Z
DTEND:20191009T170000Z
SUMMARY:Yom Kippur Morning
END:VEVENT
END:VCALENDAR
